BEGIN:VCALENDAR
VERSION:2.0
PRODID:-//Himmel und Wasser - ECPv6.5.1.5//NONSGML v1.0//EN
CALSCALE:GREGORIAN
METHOD:PUBLISH
X-ORIGINAL-URL:https://www.himmelundwasser.at
X-WR-CALDESC:Events for Himmel und Wasser
REFRESH-INTERVAL;VALUE=DURATION:PT1H
X-Robots-Tag:noindex
X-PUBLISHED-TTL:PT1H
BEGIN:VTIMEZONE
TZID:Europe/Berlin
BEGIN:DAYLIGHT
TZOFFSETFROM:+0100
TZOFFSETTO:+0200
TZNAME:CEST
DTSTART:20250330T010000
END:DAYLIGHT
BEGIN:STANDARD
TZOFFSETFROM:+0200
TZOFFSETTO:+0100
TZNAME:CET
DTSTART:20251026T010000
END:STANDARD
END:VTIMEZONE
BEGIN:VEVENT
DTSTART;TZID=Europe/Berlin:20250530T150000
DTEND;TZID=Europe/Berlin:20250531T020000
DTSTAMP:20260420T091036
CREATED:20250507T201623Z
LAST-MODIFIED:20250507T201623Z
UID:3362-1748617200-1748656800@www.himmelundwasser.at
SUMMARY:BASSIC INSTINCT
DESCRIPTION:☀️Dance the day & night away under the sun to the best Drum and Bass\, Jungle & Breakbeat sounds! It’ll be smooth\, liquid\, funky in the beginning and as the sun sets we’ll have some harder & darker sounds as well – for sure something for everyone! 🎶 \n🌊 Don’t forget your bathing suits\, everybody please cross their fingers that the weather will be good 🤞🏾🤞🏾😂
URL:https://www.himmelundwasser.at/event/bassic-instinct
CATEGORIES:Party
ATTACH;FMTTYPE=image/jpeg:https://www.himmelundwasser.at/wp-content/uploads/2025/03/Bassic_Instinct_HuW_30_5_25.jpg
END:VEVENT
END:VCALENDAR