BEGIN:VCALENDAR
VERSION:2.0
PRODID:-//Himmel und Wasser - ECPv6.5.1.5//NONSGML v1.0//EN
CALSCALE:GREGORIAN
METHOD:PUBLISH
X-WR-CALNAME:Himmel und Wasser
X-ORIGINAL-URL:https://www.himmelundwasser.at
X-WR-CALDESC:Events for Himmel und Wasser
REFRESH-INTERVAL;VALUE=DURATION:PT1H
X-Robots-Tag:noindex
X-PUBLISHED-TTL:PT1H
BEGIN:VTIMEZONE
TZID:Europe/Berlin
BEGIN:DAYLIGHT
TZOFFSETFROM:+0100
TZOFFSETTO:+0200
TZNAME:CEST
DTSTART:20250330T010000
END:DAYLIGHT
BEGIN:STANDARD
TZOFFSETFROM:+0200
TZOFFSETTO:+0100
TZNAME:CET
DTSTART:20251026T010000
END:STANDARD
END:VTIMEZONE
BEGIN:VEVENT
DTSTART;TZID=Europe/Berlin:20250906T140000
DTEND;TZID=Europe/Berlin:20250907T020000
DTSTAMP:20260421T133150
CREATED:20250407T183511Z
LAST-MODIFIED:20250827T105209Z
UID:3332-1757167200-1757210400@www.himmelundwasser.at
SUMMARY:Geburtstagsfeier
DESCRIPTION:Feier – Elektronische Musik – Privat – Gastgarten für alle da \n 
URL:https://www.himmelundwasser.at/event/geburtstagsfeier
CATEGORIES:Party
END:VEVENT
BEGIN:VEVENT
DTSTART;VALUE=DATE:20250913
DTEND;VALUE=DATE:20250915
DTSTAMP:20260421T133150
CREATED:20250311T144439Z
LAST-MODIFIED:20250311T144439Z
UID:3317-1757721600-1757894399@www.himmelundwasser.at
SUMMARY:Triathlon
DESCRIPTION:Sportveranstaltung
URL:https://www.himmelundwasser.at/event/triathlon
CATEGORIES:Sportevent
ATTACH;FMTTYPE=image/jpeg:https://www.himmelundwasser.at/wp-content/uploads/2024/04/Triathlon-2.jpg
END:VEVENT
BEGIN:VEVENT
DTSTART;TZID=Europe/Berlin:20250920T160000
DTEND;TZID=Europe/Berlin:20250921T020000
DTSTAMP:20260421T133150
CREATED:20240723T155228Z
LAST-MODIFIED:20250905T073813Z
UID:3185-1758384000-1758420000@www.himmelundwasser.at
SUMMARY:Löwenzahn
DESCRIPTION:Elektro – Techno
URL:https://www.himmelundwasser.at/event/lowenzahn
CATEGORIES:Party
ATTACH;FMTTYPE=image/jpeg:https://www.himmelundwasser.at/wp-content/uploads/2024/07/Lowenzahn-Sept.-25.jpg
END:VEVENT
BEGIN:VEVENT
DTSTART;TZID=Europe/Berlin:20250927T140000
DTEND;TZID=Europe/Berlin:20250928T040000
DTSTAMP:20260421T133150
CREATED:20250527T120317Z
LAST-MODIFIED:20250905T074143Z
UID:3408-1758981600-1759032000@www.himmelundwasser.at
SUMMARY:Tribal Vibes
DESCRIPTION:Psy – House – Goa – DnB
URL:https://www.himmelundwasser.at/event/tribal-vibes-3
CATEGORIES:Party
ATTACH;FMTTYPE=image/jpeg:https://www.himmelundwasser.at/wp-content/uploads/2025/05/Tribal-Vibes-Sept-25.jpg
END:VEVENT
END:VCALENDAR