BEGIN:VCALENDAR
VERSION:2.0
PRODID:-//Himmel und Wasser - ECPv6.5.1.5//NONSGML v1.0//EN
CALSCALE:GREGORIAN
METHOD:PUBLISH
X-ORIGINAL-URL:https://www.himmelundwasser.at
X-WR-CALDESC:Events for Himmel und Wasser
REFRESH-INTERVAL;VALUE=DURATION:PT1H
X-Robots-Tag:noindex
X-PUBLISHED-TTL:PT1H
BEGIN:VTIMEZONE
TZID:Europe/Berlin
BEGIN:DAYLIGHT
TZOFFSETFROM:+0100
TZOFFSETTO:+0200
TZNAME:CEST
DTSTART:20250330T010000
END:DAYLIGHT
BEGIN:STANDARD
TZOFFSETFROM:+0200
TZOFFSETTO:+0100
TZNAME:CET
DTSTART:20251026T010000
END:STANDARD
BEGIN:DAYLIGHT
TZOFFSETFROM:+0100
TZOFFSETTO:+0200
TZNAME:CEST
DTSTART:20260329T010000
END:DAYLIGHT
BEGIN:STANDARD
TZOFFSETFROM:+0200
TZOFFSETTO:+0100
TZNAME:CET
DTSTART:20261025T010000
END:STANDARD
END:VTIMEZONE
BEGIN:VEVENT
DTSTART;TZID=Europe/Berlin:20250606T160000
DTEND;TZID=Europe/Berlin:20250607T010000
DTSTAMP:20260421T172722
CREATED:20250311T141434Z
LAST-MODIFIED:20250522T070024Z
UID:3299-1749225600-1749258000@www.himmelundwasser.at
SUMMARY:Galapa Grooves
DESCRIPTION:geiler Sound zum Tanzen. Sehr groovig\, funkig.
URL:https://www.himmelundwasser.at/event/galapa-grooves
CATEGORIES:Party
ATTACH;FMTTYPE=image/jpeg:https://www.himmelundwasser.at/wp-content/uploads/2025/03/Galapa-Grooves-scaled.jpg
END:VEVENT
BEGIN:VEVENT
DTSTART;TZID=Europe/Berlin:20250607T150000
DTEND;TZID=Europe/Berlin:20250608T010000
DTSTAMP:20260421T172722
CREATED:20250311T141755Z
LAST-MODIFIED:20250311T141755Z
UID:3301-1749308400-1749344400@www.himmelundwasser.at
SUMMARY:European Skateboardcommunity
DESCRIPTION:Skater Chill Funkig Cool Musik Party
URL:https://www.himmelundwasser.at/event/european-skateboardcommunity
CATEGORIES:Party
END:VEVENT
BEGIN:VEVENT
DTSTART;VALUE=DATE:20250613
DTEND;VALUE=DATE:20250614
DTSTAMP:20260421T172722
CREATED:20250311T142407Z
LAST-MODIFIED:20250311T142452Z
UID:3303-1749772800-1749859199@www.himmelundwasser.at
SUMMARY:Firmenfeier
DESCRIPTION:kein öffentliches Event
URL:https://www.himmelundwasser.at/event/firmenfeier
END:VEVENT
BEGIN:VEVENT
DTSTART;TZID=Europe/Berlin:20250614T160000
DTEND;TZID=Europe/Berlin:20250615T020000
DTSTAMP:20260421T172722
CREATED:20240723T145524Z
LAST-MODIFIED:20250522T070913Z
UID:3181-1749916800-1749952800@www.himmelundwasser.at
SUMMARY:Kaiserwetter
DESCRIPTION:Dieses housige – elektronische Technoevent muss einmal im Jahr auf der Insel stattfinden. Alte & neue Beats\, eingefleischte Gäste und alle kennen sich. So ist das\, wenn beim Kaiser getanzt wird.
URL:https://www.himmelundwasser.at/event/kaiserwetter-2
CATEGORIES:Party
ATTACH;FMTTYPE=image/jpeg:https://www.himmelundwasser.at/wp-content/uploads/2024/07/Kaiserwetter-17.8.24.jpg
END:VEVENT
BEGIN:VEVENT
DTSTART;TZID=Europe/Berlin:20250618T160000
DTEND;TZID=Europe/Berlin:20250619T020000
DTSTAMP:20260421T172722
CREATED:20250407T185918Z
LAST-MODIFIED:20250527T114901Z
UID:3341-1750262400-1750298400@www.himmelundwasser.at
SUMMARY:Love at first Sight
DESCRIPTION:Von Chill bis Ekstase: Wir starten entspannt – mit deepem Sound\, Sonne im Gesicht und einem Drink in der Hand. Doch wenn der Himmel dunkler wird\, drehen wir auf: feinste Beats\, fette Bässe und ein Dancefloor unter Sternen. \nKommt vorbei\, spürt den Vibe – und feiert mit uns
URL:https://www.himmelundwasser.at/event/glitzer-bass
CATEGORIES:Party
ATTACH;FMTTYPE=image/jpeg:https://www.himmelundwasser.at/wp-content/uploads/2025/04/Love-at-first.jpg
END:VEVENT
BEGIN:VEVENT
DTSTART;TZID=Europe/Berlin:20250620T160000
DTEND;TZID=Europe/Berlin:20250621T023000
DTSTAMP:20260421T172722
CREATED:20250407T190456Z
LAST-MODIFIED:20250407T190456Z
UID:3343-1750435200-1750473000@www.himmelundwasser.at
SUMMARY:Bass Cave
DESCRIPTION:Elektro – DnB – Oldschool – geile Party
URL:https://www.himmelundwasser.at/event/bass-cave
CATEGORIES:Party
ATTACH;FMTTYPE=image/png:https://www.himmelundwasser.at/wp-content/uploads/2024/06/Bass-Cave-21.06.2024-v6-insta-post-1.png
END:VEVENT
BEGIN:VEVENT
DTSTART;TZID=Europe/Berlin:20250621T080000
DTEND;TZID=Europe/Berlin:20250621T233000
DTSTAMP:20260421T172722
CREATED:20250620T183928Z
LAST-MODIFIED:20250620T183928Z
UID:3412-1750492800-1750548600@www.himmelundwasser.at
SUMMARY:Party Wir feiern
DESCRIPTION:House\, Elektro\, Techno – ein kunterbunter Mix
URL:https://www.himmelundwasser.at/event/party-wir-feiern
CATEGORIES:Party
ATTACH;FMTTYPE=image/jpeg:https://www.himmelundwasser.at/wp-content/uploads/2025/06/Party-Wir-feiern.jpg
END:VEVENT
BEGIN:VEVENT
DTSTART;VALUE=DATE:20260627
DTEND;VALUE=DATE:20260629
DTSTAMP:20260421T172722
CREATED:20250311T143202Z
LAST-MODIFIED:20260318T154531Z
UID:3305-1782518400-1782691199@www.himmelundwasser.at
SUMMARY:Internationale Ruderregatta
DESCRIPTION:Ruderrennen von 08h – 16h\, Gastgarten geöffnet
URL:https://www.himmelundwasser.at/event/internationale-ruderregatta
CATEGORIES:Sportevent
ATTACH;FMTTYPE=image/jpeg:https://www.himmelundwasser.at/wp-content/uploads/2025/03/Ruderregatta-2025.jpg
END:VEVENT
END:VCALENDAR