BEGIN:VCALENDAR
VERSION:2.0
PRODID:-//Himmel und Wasser - ECPv6.5.1.5//NONSGML v1.0//EN
CALSCALE:GREGORIAN
METHOD:PUBLISH
X-ORIGINAL-URL:https://www.himmelundwasser.at
X-WR-CALDESC:Events for Himmel und Wasser
REFRESH-INTERVAL;VALUE=DURATION:PT1H
X-Robots-Tag:noindex
X-PUBLISHED-TTL:PT1H
BEGIN:VTIMEZONE
TZID:Europe/Berlin
BEGIN:DAYLIGHT
TZOFFSETFROM:+0100
TZOFFSETTO:+0200
TZNAME:CEST
DTSTART:20240331T010000
END:DAYLIGHT
BEGIN:STANDARD
TZOFFSETFROM:+0200
TZOFFSETTO:+0100
TZNAME:CET
DTSTART:20241027T010000
END:STANDARD
END:VTIMEZONE
BEGIN:VEVENT
DTSTART;TZID=Europe/Berlin:20240706T160000
DTEND;TZID=Europe/Berlin:20240708T020000
DTSTAMP:20260422T202537
CREATED:20240703T091346Z
LAST-MODIFIED:20240703T091346Z
UID:3108-1720281600-1720404000@www.himmelundwasser.at
SUMMARY:Magic Moments
DESCRIPTION:
URL:https://www.himmelundwasser.at/event/magic-moments
LOCATION:Himmel und Wasser\, Steinspornbrücke 1 (Donauinsel)\, Wien\, 1220\, Österreich
END:VEVENT
BEGIN:VEVENT
DTSTART;TZID=Europe/Berlin:20240707T140000
DTEND;TZID=Europe/Berlin:20240707T200000
DTSTAMP:20260422T202537
CREATED:20240703T092317Z
LAST-MODIFIED:20240703T092317Z
UID:3112-1720360800-1720382400@www.himmelundwasser.at
SUMMARY:Sundaze
DESCRIPTION:
URL:https://www.himmelundwasser.at/event/sundaze
LOCATION:Himmel und Wasser\, Steinspornbrücke 1 (Donauinsel)\, Wien\, 1220\, Österreich
CATEGORIES:Chillige Party
END:VEVENT
BEGIN:VEVENT
DTSTART;TZID=Europe/Berlin:20240712T130000
DTEND;TZID=Europe/Berlin:20240714T170000
DTSTAMP:20260422T202537
CREATED:20240703T195810Z
LAST-MODIFIED:20240703T195810Z
UID:3116-1720789200-1720976400@www.himmelundwasser.at
SUMMARY:Schwimmmeisterschaften
DESCRIPTION:
URL:https://www.himmelundwasser.at/event/schwimmmeisterschaften
LOCATION:Himmel und Wasser\, Steinspornbrücke 1 (Donauinsel)\, Wien\, 1220\, Österreich
END:VEVENT
BEGIN:VEVENT
DTSTART;TZID=Europe/Berlin:20240720T180000
DTEND;TZID=Europe/Berlin:20240721T020000
DTSTAMP:20260422T202537
CREATED:20240703T201056Z
LAST-MODIFIED:20240719T100241Z
UID:3122-1721498400-1721527200@www.himmelundwasser.at
SUMMARY:G-Spot
DESCRIPTION:
URL:https://www.himmelundwasser.at/event/g-spot
LOCATION:Himmel und Wasser\, Steinspornbrücke 1 (Donauinsel)\, Wien\, 1220\, Österreich
CATEGORIES:Party
ATTACH;FMTTYPE=image/jpeg:https://www.himmelundwasser.at/wp-content/uploads/2024/07/GSpot-20.7.jpg
END:VEVENT
BEGIN:VEVENT
DTSTART;TZID=Europe/Berlin:20240721T150000
DTEND;TZID=Europe/Berlin:20240721T180000
DTSTAMP:20260422T202537
CREATED:20240719T094730Z
LAST-MODIFIED:20240719T094730Z
UID:3160-1721574000-1721584800@www.himmelundwasser.at
SUMMARY:Mini Konzert
DESCRIPTION:
URL:https://www.himmelundwasser.at/event/mini-konzert
CATEGORIES:Live Musik
ATTACH;FMTTYPE=image/png:https://www.himmelundwasser.at/wp-content/uploads/2024/07/Orange-Blau-Rosa-Psychedelisch-Fotozentrisch-Friedlich-Bewusstsein-Zitate-Hochformat-Psychedelisch-Poster.png
END:VEVENT
BEGIN:VEVENT
DTSTART;TZID=Europe/Berlin:20240726T180000
DTEND;TZID=Europe/Berlin:20240726T230000
DTSTAMP:20260422T202537
CREATED:20240723T143007Z
LAST-MODIFIED:20240723T143725Z
UID:3170-1722016800-1722034800@www.himmelundwasser.at
SUMMARY:Grooviger Sound by Stani & Crew
DESCRIPTION:Stanislaus feiert seinen Geburtstag und beglückt uns mit seiner Auflegerei. Guter Sound zum Shaken für alle wird hier ebenso dabei sein\, wie alte Elektro Scheiben. Bei herrlichen Temperaturen lädt das Wasser zum Hineinhüpfen ein.
URL:https://www.himmelundwasser.at/event/grooviger-sound-by-stani-crew
CATEGORIES:Party
ATTACH;FMTTYPE=image/jpeg:https://www.himmelundwasser.at/wp-content/uploads/2024/07/HitznSchwitzn.jpg
END:VEVENT
BEGIN:VEVENT
DTSTART;TZID=Europe/Berlin:20240727T160000
DTEND;TZID=Europe/Berlin:20240727T233000
DTSTAMP:20260422T202537
CREATED:20240703T201557Z
LAST-MODIFIED:20240719T095139Z
UID:3126-1722096000-1722123000@www.himmelundwasser.at
SUMMARY:Gravity
DESCRIPTION:THREE YEARS OF GRAVITY – OUTDOOR SUMMER DRUM & BASS\nGravity is turning three years old!\nThat’s why we want to celebrate together with you outdoors at Himmel und Wasser.\nShare your love of music with us once again and let’s celebrate our third birthday together! Follow us for more announcements.\n#meetgravity #weightlessdnb \n▼ FACTS\n⚬ Date: Sa.\, 27. July 2024\n⚬ Start: 14:00\n⚬ Venue: Himmel und Wasser\, Steinspornbrücke 1\, 1220 Wien\n⚬ Entry: Free Donation\n(a share of our earnings will be donated towards charitable ends) \n▼ ARTISTS (A-Z)\n⚬ Clank & Maider (Viper / DeVice | AT)\n⚬ Skyfade & Elly E (DeVice / Fresh | AT)\nSupported by\n⚬ Cherches\n⚬ Escapism\n⚬ Frank Lemon\n⚬ M:FX\n⚬ Parker\n⚬ Scapula\n⚬ Twenty-Two\n⚬ Unics \n▼ WANT MORE?\nWeb: https://meetgravity.at\nInstagram: instagram.com/meetgravity \n▼ PRESENTED BY\nGravity & friends \nNotice: We take photos and videos at the event to document our activities and create unforgettable impressions for you. The material serves our public relations and is used for our web presence.
URL:https://www.himmelundwasser.at/event/gravity
LOCATION:Himmel und Wasser\, Steinspornbrücke 1 (Donauinsel)\, Wien\, 1220\, Österreich
CATEGORIES:Party
ATTACH;FMTTYPE=image/jpeg:https://www.himmelundwasser.at/wp-content/uploads/2024/07/Gravity.jpg
END:VEVENT
END:VCALENDAR