BEGIN:VCALENDAR
VERSION:2.0
PRODID:-//Himmel und Wasser - ECPv6.5.1.5//NONSGML v1.0//EN
CALSCALE:GREGORIAN
METHOD:PUBLISH
X-WR-CALNAME:Himmel und Wasser
X-ORIGINAL-URL:https://www.himmelundwasser.at
X-WR-CALDESC:Events for Himmel und Wasser
REFRESH-INTERVAL;VALUE=DURATION:PT1H
X-Robots-Tag:noindex
X-PUBLISHED-TTL:PT1H
BEGIN:VTIMEZONE
TZID:Europe/Berlin
BEGIN:DAYLIGHT
TZOFFSETFROM:+0100
TZOFFSETTO:+0200
TZNAME:CEST
DTSTART:20240331T010000
END:DAYLIGHT
BEGIN:STANDARD
TZOFFSETFROM:+0200
TZOFFSETTO:+0100
TZNAME:CET
DTSTART:20241027T010000
END:STANDARD
END:VTIMEZONE
BEGIN:VEVENT
DTSTART;TZID=Europe/Berlin:20240501T160000
DTEND;TZID=Europe/Berlin:20240501T160000
DTSTAMP:20260419T210623
CREATED:20240412T095925Z
LAST-MODIFIED:20240412T110450Z
UID:1107-1714579200-1714579200@www.himmelundwasser.at
SUMMARY:1. Mai - Groovegurus:Vie
DESCRIPTION:Line up: Tomasso\, AID\, AL:x/ms.van de brink (GrooveGurus:vie)\, Scheibosan\, Tim es punkt (Löwenzahn)
URL:https://www.himmelundwasser.at/event/1-mai-groovegurusvie
LOCATION:Himmel und Wasser\, Steinspornbrücke 1 (Donauinsel)\, Wien\, 1220\, Österreich
CATEGORIES:Party
ATTACH;FMTTYPE=image/jpeg:https://www.himmelundwasser.at/wp-content/uploads/2024/04/435001225_10233513587002310_7954684193762223001_n.jpg
END:VEVENT
END:VCALENDAR