BEGIN:VCALENDAR
VERSION:2.0
PRODID:-//Himmel und Wasser - ECPv6.5.1.5//NONSGML v1.0//EN
CALSCALE:GREGORIAN
METHOD:PUBLISH
X-ORIGINAL-URL:https://www.himmelundwasser.at
X-WR-CALDESC:Events for Himmel und Wasser
REFRESH-INTERVAL;VALUE=DURATION:PT1H
X-Robots-Tag:noindex
X-PUBLISHED-TTL:PT1H
BEGIN:VTIMEZONE
TZID:Europe/Berlin
BEGIN:DAYLIGHT
TZOFFSETFROM:+0100
TZOFFSETTO:+0200
TZNAME:CEST
DTSTART:20240331T010000
END:DAYLIGHT
BEGIN:STANDARD
TZOFFSETFROM:+0200
TZOFFSETTO:+0100
TZNAME:CET
DTSTART:20241027T010000
END:STANDARD
BEGIN:DAYLIGHT
TZOFFSETFROM:+0100
TZOFFSETTO:+0200
TZNAME:CEST
DTSTART:20250330T010000
END:DAYLIGHT
BEGIN:STANDARD
TZOFFSETFROM:+0200
TZOFFSETTO:+0100
TZNAME:CET
DTSTART:20251026T010000
END:STANDARD
BEGIN:DAYLIGHT
TZOFFSETFROM:+0100
TZOFFSETTO:+0200
TZNAME:CEST
DTSTART:20260329T010000
END:DAYLIGHT
BEGIN:STANDARD
TZOFFSETFROM:+0200
TZOFFSETTO:+0100
TZNAME:CET
DTSTART:20261025T010000
END:STANDARD
END:VTIMEZONE
BEGIN:VEVENT
DTSTART;VALUE=DATE:20250913
DTEND;VALUE=DATE:20250915
DTSTAMP:20260426T042508
CREATED:20250311T144439Z
LAST-MODIFIED:20250311T144439Z
UID:3317-1757721600-1757894399@www.himmelundwasser.at
SUMMARY:Triathlon
DESCRIPTION:Sportveranstaltung
URL:https://www.himmelundwasser.at/event/triathlon
CATEGORIES:Sportevent
ATTACH;FMTTYPE=image/jpeg:https://www.himmelundwasser.at/wp-content/uploads/2024/04/Triathlon-2.jpg
END:VEVENT
BEGIN:VEVENT
DTSTART;VALUE=DATE:20260627
DTEND;VALUE=DATE:20260629
DTSTAMP:20260426T042508
CREATED:20250311T143202Z
LAST-MODIFIED:20260318T154531Z
UID:3305-1782518400-1782691199@www.himmelundwasser.at
SUMMARY:Internationale Ruderregatta
DESCRIPTION:Ruderrennen von 08h – 16h\, Gastgarten geöffnet
URL:https://www.himmelundwasser.at/event/internationale-ruderregatta
CATEGORIES:Sportevent
ATTACH;FMTTYPE=image/jpeg:https://www.himmelundwasser.at/wp-content/uploads/2025/03/Ruderregatta-2025.jpg
END:VEVENT
BEGIN:VEVENT
DTSTART;TZID=Europe/Berlin:20240906T160000
DTEND;TZID=Europe/Berlin:20240908T160000
DTSTAMP:20260426T042508
CREATED:20240412T100221Z
LAST-MODIFIED:20240724T065733Z
UID:1109-1725638400-1725811200@www.himmelundwasser.at
SUMMARY:8. Vienna Triathlon 2024
DESCRIPTION:Rock the City beim 8. Vienna Triathlon. Ein perfekter Saisonabschluss mit einer Vielzahl an Bewerben. Mako Swim Open\, Sun&Beauty Ladies Triathlon\, Cupra Mayer Sprint Triathlon\, Aquabike\, Bike/Run\, Kinder Aquathlon und Olympische Distanz.
URL:https://www.himmelundwasser.at/event/8-vienna-triathlon-2024
LOCATION:Himmel und Wasser\, Steinspornbrücke 1 (Donauinsel)\, Wien\, 1220\, Österreich
CATEGORIES:Sportevent
ATTACH;FMTTYPE=image/jpeg:https://www.himmelundwasser.at/wp-content/uploads/2024/04/Vienna_Triathlon.jpg
END:VEVENT
BEGIN:VEVENT
DTSTART;VALUE=DATE:20240629
DTEND;VALUE=DATE:20240701
DTSTAMP:20260426T042508
CREATED:20240417T095708Z
LAST-MODIFIED:20240417T095759Z
UID:1608-1719619200-1719791999@www.himmelundwasser.at
SUMMARY:120. Wiener Internationale Ruderregatta - VIRR 2024
DESCRIPTION:Die Wiener Internationale Ruderregatta VIRR geht in die 120. Auflage. Auch dieses Jahr erwarten wir ein hochkarätiges Feld an Sportlerinnen und Sportlern aus allen Schüler- und Jugendklassen\, offene Klasse\, Para sowie Masters. Das attraktive Rennprogramm bietet die richtige Challenge für jeden.\nwww.virr.atoffice@virr.athttps://www.facebook.com/groups/viennarowingregatta\nThe Vienna International Rowing Regatta VIRR opens its gates for the 120th time. We are expecting a competitive field of rowers in all classes (U13/U15/U17/U19/Seniors/Para/Masters). We are sure that our attractive race programm will offer just the right challenge for you.
URL:https://www.himmelundwasser.at/event/120-wiener-internationale-ruderregatta-virr-2024
CATEGORIES:Sportevent
ATTACH;FMTTYPE=image/jpeg:https://www.himmelundwasser.at/wp-content/uploads/2024/04/Ruderregatta-virr-2024.jpg
END:VEVENT
END:VCALENDAR