BEGIN:VCALENDAR
VERSION:2.0
PRODID:-//Himmel und Wasser - ECPv6.5.1.5//NONSGML v1.0//EN
CALSCALE:GREGORIAN
METHOD:PUBLISH
X-WR-CALNAME:Himmel und Wasser
X-ORIGINAL-URL:https://www.himmelundwasser.at
X-WR-CALDESC:Events for Himmel und Wasser
REFRESH-INTERVAL;VALUE=DURATION:PT1H
X-Robots-Tag:noindex
X-PUBLISHED-TTL:PT1H
BEGIN:VTIMEZONE
TZID:Europe/Berlin
BEGIN:DAYLIGHT
TZOFFSETFROM:+0100
TZOFFSETTO:+0200
TZNAME:CEST
DTSTART:20250330T010000
END:DAYLIGHT
BEGIN:STANDARD
TZOFFSETFROM:+0200
TZOFFSETTO:+0100
TZNAME:CET
DTSTART:20251026T010000
END:STANDARD
END:VTIMEZONE
BEGIN:VEVENT
DTSTART;TZID=Europe/Berlin:20250829T160000
DTEND;TZID=Europe/Berlin:20250830T023000
DTSTAMP:20260422T024325
CREATED:20240611T071833Z
LAST-MODIFIED:20250827T113721Z
UID:3024-1756483200-1756521000@www.himmelundwasser.at
SUMMARY:Bass Cave & Shake it and break it - Summer Special
DESCRIPTION:Outdoor Stage from: 16:00Indoor Stage from: 23:00\n► DKAY (Moving Shadow\, Renegade Hardware)► TENCHU (in:deep music)► LINJA (Dispatch/Sofa Sound)► DISÆ LILLI (Bassta)► FRY (Upd8e)► DAKINDL / TYLDAK (Shake it and Break it)► ROONY / PHUEL / DI GELLNER (Bass Cave)► Feli Nightingale (Citrus Cue)\nSupport by MC ÆROSTOPE\n\n________Entry: FREE DONATIONStart: 16:00
URL:https://www.himmelundwasser.at/event/bass-cave-and-shake-it-break-it
LOCATION:Himmel und Wasser\, Steinspornbrücke 1 (Donauinsel)\, Wien\, 1220\, Österreich
CATEGORIES:Party
ATTACH;FMTTYPE=image/jpeg:https://www.himmelundwasser.at/wp-content/uploads/2024/06/Shake-it-Break-it-29.8.25.jpg
END:VEVENT
BEGIN:VEVENT
DTSTART;TZID=Europe/Berlin:20250830T160000
DTEND;TZID=Europe/Berlin:20250831T000000
DTSTAMP:20260422T024325
CREATED:20250527T102450Z
LAST-MODIFIED:20250827T105757Z
UID:3384-1756569600-1756598400@www.himmelundwasser.at
SUMMARY:Party
DESCRIPTION:Ein kunterbunter Nachmittag erwartet uns. Bei herrlichen Sonnenschein\, lässt es sich das Tanzbein schwingen. \nAm späten Nachmittag gemütlicher House/Elektro – wie gewohnt. Am Abend wird es dann eher poppiger\, ein Tanzverein besucht uns und für alle etwas dabei. Kommt und genießt.
URL:https://www.himmelundwasser.at/event/hochzeitsfeier-3
CATEGORIES:Party
ATTACH;FMTTYPE=image/jpeg:https://www.himmelundwasser.at/wp-content/uploads/2024/07/HitznSchwitzn.jpg
END:VEVENT
END:VCALENDAR