BEGIN:VCALENDAR
VERSION:2.0
PRODID:-//Himmel und Wasser - ECPv6.5.1.5//NONSGML v1.0//EN
CALSCALE:GREGORIAN
METHOD:PUBLISH
X-ORIGINAL-URL:https://www.himmelundwasser.at
X-WR-CALDESC:Events for Himmel und Wasser
REFRESH-INTERVAL;VALUE=DURATION:PT1H
X-Robots-Tag:noindex
X-PUBLISHED-TTL:PT1H
BEGIN:VTIMEZONE
TZID:Europe/Berlin
BEGIN:DAYLIGHT
TZOFFSETFROM:+0100
TZOFFSETTO:+0200
TZNAME:CEST
DTSTART:20240331T010000
END:DAYLIGHT
BEGIN:STANDARD
TZOFFSETFROM:+0200
TZOFFSETTO:+0100
TZNAME:CET
DTSTART:20241027T010000
END:STANDARD
END:VTIMEZONE
BEGIN:VEVENT
DTSTART;TZID=Europe/Berlin:20240802T160000
DTEND;TZID=Europe/Berlin:20240802T160000
DTSTAMP:20260423T005735
CREATED:20240417T100155Z
LAST-MODIFIED:20240724T065923Z
UID:1611-1722614400-1722614400@www.himmelundwasser.at
SUMMARY:Löwenzahn | Techno Open Air
DESCRIPTION:FREE PARTY (in- & outdoor) | donations welcome \n_________DEEP / MELODIC / RAVE / TECHNO all day ‘n’ night long\n Himmel und Wasser Verschoben auf: Fr\, 02.08.2024 | 16h – 02h\n\n_________LINE-UP:\ntba.\n__________________ Look after yourselves and your fellow human beings. Respect nature. Use the trash cans and dispose of your cigarette butts in the designated ashtrays – there are also specially designated colorful bins for this purpose at the public stairs | made by Worldtrash.Foundation Kitchen open until approximately 9 p.m.\n AWARENESS & SAFETY | We are QUEER friendly\, happy\, consent oriented people who show zero tolerance to improper behavior. Please don’t hesitate to inform the bar staff or the doorman if you feel uncomfortable or see any harassment throughout the venue.\n__________________Transport:\n Bus line 92B – for example\, from U Donaustadtbrücke towards ÖlhafenExit at Raffineriestr./BiberhaufenwegThen cross the Steinspornbrücke towards Himmel und Wasser Last bus departs at 9:34 p.m. (U Donaustadtbrücke) \n From U Donaustadtbrücke\, walk 3 km along the water\n Coordinates (for cyclists):48°11’29.4″N 16°27’53.9″Eor48.191488\, 16.464972\neventlink:– https://www.facebook.com/events/1147189573391420– https://www.instagram.com/p/C5sy2-tMn6R\n\n_________visit us:https://linktr.ee/loewenzahnwien \nWeniger anzeigen
URL:https://www.himmelundwasser.at/event/loewenzahn-i-techno-open-air
LOCATION:Himmel und Wasser\, Steinspornbrücke 1 (Donauinsel)\, Wien\, 1220\, Österreich
CATEGORIES:Party
ATTACH;FMTTYPE=image/jpeg:https://www.himmelundwasser.at/wp-content/uploads/2024/04/Lowenzahn-2-24.jpg
END:VEVENT
BEGIN:VEVENT
DTSTART;TZID=Europe/Berlin:20240803T160000
DTEND;TZID=Europe/Berlin:20240804T020000
DTSTAMP:20260423T005735
CREATED:20240709T130833Z
LAST-MODIFIED:20240719T095739Z
UID:3139-1722700800-1722736800@www.himmelundwasser.at
SUMMARY:Magic Moments
DESCRIPTION:
URL:https://www.himmelundwasser.at/event/magic-moments-2
CATEGORIES:Party
ATTACH;FMTTYPE=image/jpeg:https://www.himmelundwasser.at/wp-content/uploads/2024/07/Magic-Moments-2-24.jpg
END:VEVENT
BEGIN:VEVENT
DTSTART;TZID=Europe/Berlin:20240809T160000
DTEND;TZID=Europe/Berlin:20240810T020000
DTSTAMP:20260423T005735
CREATED:20240723T144326Z
LAST-MODIFIED:20240723T144722Z
UID:3175-1723219200-1723255200@www.himmelundwasser.at
SUMMARY:River Resonance
DESCRIPTION:DnB Sound am ganzen Wochenende. Melodisch startet dieser DnB Sound von den Jungs in den Abend hinein. Zu späterer Stunde werden die Bässe immer schneller und kein Tanzbein bleibt ruhig. Komm vorbei\, und lass den DnB auf dich einprasseln.
URL:https://www.himmelundwasser.at/event/river-ressounance
CATEGORIES:Party
ATTACH;FMTTYPE=image/jpeg:https://www.himmelundwasser.at/wp-content/uploads/2024/07/River-Ressounance-Xaver.jpg
END:VEVENT
BEGIN:VEVENT
DTSTART;TZID=Europe/Berlin:20240816T160000
DTEND;TZID=Europe/Berlin:20240817T020000
DTSTAMP:20260423T005735
CREATED:20240807T084303Z
LAST-MODIFIED:20240807T084303Z
UID:3194-1723824000-1723860000@www.himmelundwasser.at
SUMMARY:Shake it & Break it
DESCRIPTION:Gewohnter DnB – diese Crew beehrt uns schon seit unseren Anfangszeiten. Kommt vorbei und genießt
URL:https://www.himmelundwasser.at/event/shake-it-break-it-2
CATEGORIES:Party
ATTACH;FMTTYPE=image/jpeg:https://www.himmelundwasser.at/wp-content/uploads/2024/08/Shake-it-Break-it-2-23.8.jpg
END:VEVENT
BEGIN:VEVENT
DTSTART;TZID=Europe/Berlin:20240823T160000
DTEND;TZID=Europe/Berlin:20240824T030000
DTSTAMP:20260423T005735
CREATED:20240725T141234Z
LAST-MODIFIED:20240725T141347Z
UID:3190-1724428800-1724468400@www.himmelundwasser.at
SUMMARY:Wolkentanz
DESCRIPTION:
URL:https://www.himmelundwasser.at/event/wolkentanz
CATEGORIES:Party
ATTACH;FMTTYPE=image/jpeg:https://www.himmelundwasser.at/wp-content/uploads/2024/07/Wolkentanz.jpg
END:VEVENT
BEGIN:VEVENT
DTSTART;TZID=Europe/Berlin:20240824T160000
DTEND;TZID=Europe/Berlin:20240825T020000
DTSTAMP:20260423T005735
CREATED:20240709T132038Z
LAST-MODIFIED:20240807T084825Z
UID:3149-1724515200-1724551200@www.himmelundwasser.at
SUMMARY:G-Spot
DESCRIPTION:
URL:https://www.himmelundwasser.at/event/kaiserwetter
LOCATION:Himmel und Wasser\, Steinspornbrücke 1 (Donauinsel)\, Wien\, 1220\, Österreich
CATEGORIES:Party
ATTACH;FMTTYPE=image/jpeg:https://www.himmelundwasser.at/wp-content/uploads/2024/07/G-Spot-24.8.24.jpg
END:VEVENT
END:VCALENDAR