BEGIN:VCALENDAR
VERSION:2.0
PRODID:-//Himmel und Wasser - ECPv6.5.1.5//NONSGML v1.0//EN
CALSCALE:GREGORIAN
METHOD:PUBLISH
X-WR-CALNAME:Himmel und Wasser
X-ORIGINAL-URL:https://www.himmelundwasser.at
X-WR-CALDESC:Events for Himmel und Wasser
REFRESH-INTERVAL;VALUE=DURATION:PT1H
X-Robots-Tag:noindex
X-PUBLISHED-TTL:PT1H
BEGIN:VTIMEZONE
TZID:Europe/Berlin
BEGIN:DAYLIGHT
TZOFFSETFROM:+0100
TZOFFSETTO:+0200
TZNAME:CEST
DTSTART:20250330T010000
END:DAYLIGHT
BEGIN:STANDARD
TZOFFSETFROM:+0200
TZOFFSETTO:+0100
TZNAME:CET
DTSTART:20251026T010000
END:STANDARD
END:VTIMEZONE
BEGIN:VEVENT
DTSTART;TZID=Europe/Berlin:20250712T160000
DTEND;TZID=Europe/Berlin:20250713T020000
DTSTAMP:20260421T170923
CREATED:20240719T100913Z
LAST-MODIFIED:20250527T105554Z
UID:3146-1752336000-1752372000@www.himmelundwasser.at
SUMMARY:Nine o Nine
DESCRIPTION:TECHNO AUF DER INSEL #2  Free Open Air Rave 🤩\nFEEL FREE to rave with us. Get ready for another unforgettable experience as we dive deeper into the essence of underground electronic music: 10h and FREE ENTRY. ⛓️ \n🗓️14/08/2024 @himmelundwasser1\n📍Steinspornbrücke 01\, 1220 Wien\n🔉From House to Techno\n☀️From Day to Night\n🪩From Outdoor to Indoor\n🕓From 4pm to 2am\n⛔️No Place for Homophobia | Sexism | Racism | Hate\nSUPPORTED by RADIO SUPERFLY 📻\n#technowien #viennatechno #ravevienna #freetechno #freeopenair
URL:https://www.himmelundwasser.at/event/nine-o-nine
CATEGORIES:Party
ATTACH;FMTTYPE=image/jpeg:https://www.himmelundwasser.at/wp-content/uploads/2024/07/Nine-o-Nine-1.jpg
END:VEVENT
END:VCALENDAR