BEGIN:VCALENDAR
VERSION:2.0
PRODID:-//Himmel und Wasser - ECPv6.5.1.5//NONSGML v1.0//EN
CALSCALE:GREGORIAN
METHOD:PUBLISH
X-ORIGINAL-URL:https://www.himmelundwasser.at
X-WR-CALDESC:Events for Himmel und Wasser
REFRESH-INTERVAL;VALUE=DURATION:PT1H
X-Robots-Tag:noindex
X-PUBLISHED-TTL:PT1H
BEGIN:VTIMEZONE
TZID:Europe/Berlin
BEGIN:DAYLIGHT
TZOFFSETFROM:+0100
TZOFFSETTO:+0200
TZNAME:CEST
DTSTART:20240331T010000
END:DAYLIGHT
BEGIN:STANDARD
TZOFFSETFROM:+0200
TZOFFSETTO:+0100
TZNAME:CET
DTSTART:20241027T010000
END:STANDARD
END:VTIMEZONE
BEGIN:VEVENT
DTSTART;TZID=Europe/Berlin:20240519T120000
DTEND;TZID=Europe/Berlin:20240519T120000
DTSTAMP:20260423T005641
CREATED:20240515T111753Z
LAST-MODIFIED:20240515T114358Z
UID:2614-1716120000-1716120000@www.himmelundwasser.at
SUMMARY:One Day Festival with Tribal Vibes
DESCRIPTION:Dieses Mal präsentieren wir euch ein Special One-Day Festival direkt an der Donau  im Himmel und Wasser Club  Lasst uns gemeinsam den Sommer mit offenen Herzen begrüßen und für Freiheit\, Selbstmotivation und die Freude an unserer Seele tanzen \nTauche ein in eine unvergessliche Reise durch Klanglandschaften und elektronische Beats beim Techno & Psytrance 0ne-Day Festival im Himmel und Wasser Club neben der Donau \nErlebe mit uns eine Fusion aus pulsierenden Rhythmen und magischen Klängen\, die von Nachmittag bis in die frühen Morgenstunden entlang des Strandes der Donau erklingen Lass dich von der Energie der Musik mitreißen und tanze unter dem Sternenhimmel zu den besten Sounds der elektronischen Szene. Ein Event\, das deine Sinne verzaubern und deine Seele zum Vibrieren bringen wird. Sei dabei und erlebe die Magie des Moments \nEnglish:Hey everyone! We’re back with an amazing one-day festival at the beach . Let’s welcome the summer together with open hearts and dance for freedom\, self-motivation\, and the joy of our souls Dive into an unforgettable journey through soundscapes and electronic beats at the Techno & Psytrance Event at Himmel und Wasser Club next to the Danube Experience a fusion of pulsating rhythms and magical melodies echoing from afternoon till the early hours next to the Danube’s shore Let yourself be carried away by the energy of the music and dance under the starlit sky to the finest sounds of the electronic scene. An event that will enchant your senses and make your soul vibrate. Join us and experience the magic of the moment \n\nArtists\n\nHimmel Artist (Psytrance) \n\n Aioaska – Iono Music  https://on.soundcloud.com/DjnTzFB:https://www.facebook.com/andreas.aioaska.lehner\n\n Dj Alezzaro – Iono Music https://on.soundcloud.com/WNMTAFB:https://www.facebook.com/friedl.m.alezzaro\n\n Gipsy Soul – Iono Music  https://on.soundcloud.com/P7nHcFB:https://www.facebook.com/DaHanzn\n\n Djane Anjoli – Flow Ev. Rec. https://on.soundcloud.com/r1GtgFB:https://www.facebook.com/DjaneAnjoli\n\n Karam J – Psyperience – Tribal-Vibes Ev. https://on.soundcloud.com/9imkxFB:https://www.facebook.com/karam.jazieh\n\n Arnab – Tribal-Vibes Ev. https://on.soundcloud.com/3oNaKFB:https://www.facebook.com/arnabavi\n\nEntheon – Hunab Ku Records  https://on.soundcloud.com/taf1zFB:https://www.facebook.com/Enth3om\n\n\nWasser Artist ( Techno ) \n\n Mela Leøne – Yncollective https://on.soundcloud.com/Dq6tvInsta:https://www.instagram.com/mela__leone?igsh=MWQ0MGpscGRnNWxlcQ==\n\n Relinquo – Raveonsociety https://on.soundcloud.com/rySnNInsta:https://www.instagram.com/relinquobeats…\n\n El Bairak – Tribal-Vibes Ev. https://on.soundcloud.com/JyEhhFB:https://www.facebook.com/bairak.aisamee\n\n Vian Oussi – Tribal-Vibes Ev.FB: https://www.facebook.com/oussivian\n\n→→→→FACTS←←←←Start: Sonntag\, 19.Mai 2024\, ab 12:00 Uhr\nOrt: Club Himmel und Wasser \, Steinspornbrücke 1 (Donauinsel) 1220 Wien\n Öffentliche Verkehrsmittel:U2 Donaustadtbrücke dann 92 B —> Raffineriestraße/Biberhauffenweg (Taktung: 21/51 letzter Bus 17:51)Linie_92B_372647 (Seite 9 und Seite 30)oder danachU2 Aspernstraße dann 93 A —> Naufahrtbrücke\nRad:Einfach die Donauinsel Richtung (südlich) Ölhafen Lobau entlang fahren\nAuto:Abfahrt Ölhafen Lobau bis zur Steinspornbrücke bzw. zum Schild (Himmel und Wasser)Parkplatzmöglichkeit auf der anderen Seite\nDer Schwimmbereich befindet sich direkt neben der Party  \nShopping area \nFire show : David – Fire show FB: https://www.facebook.com/david.yazid.54\nYoga Workshops with Marieli Insta: https://www.instagram.com/yoga_mit_marieli…\nKomme so wie du bist (๑♡⌓♡๑)NO RACISM ＼(◎o◎)／NO SEXISM＼(◎o◎)／NO TRANS & HOMOPHOBIA＼(◎o◎)／NO VIOLENCE＼(◎o◎)／See you on the dancefloor
URL:https://www.himmelundwasser.at/event/one-day-festival-with-tribal-vibes
LOCATION:Himmel und Wasser\, Steinspornbrücke 1 (Donauinsel)\, Wien\, 1220\, Österreich
CATEGORIES:Party
ATTACH;FMTTYPE=image/jpeg:https://www.himmelundwasser.at/wp-content/uploads/2024/05/434074825_922621293196863_3554410188278021894_n.jpg
END:VEVENT
END:VCALENDAR